BEGIN:VCALENDAR
VERSION:2.0
PRODID:-//YourCompany//Events//RU
CALSCALE:GREGORIAN
METHOD:PUBLISH
BEGIN:VEVENT
UID:2818@www.it-murman.ru:443
DTSTAMP:20260423T180222Z
DTSTART:20260429T120000Z
DTEND:20260429T133000Z
SUMMARY:Переход на электронные перевозочные документы (ЭПД) до 1 сентября 2026
LOCATION:Мурманск
DESCRIPTION:Зарегистрируйтесь\, чтобы понять\, что именно нужно сделать вашей компании для перехода на ЭПД уже в мае-июне\, какие риски вас ждут после 1 сентября и сколько будет стоить внедрение под вашу конфигурацию 1С.\n\nhttps://www.it-murman.ru:443/company/events/kruglyy-stol-perekhod-na-epd-do-1-sentya/
URL:https://www.it-murman.ru:443/company/events/kruglyy-stol-perekhod-na-epd-do-1-sentya/
END:VEVENT
END:VCALENDAR
